BEGIN:VCALENDAR
PRODID:-//eluceo/ical//2.0/EN
VERSION:2.0
CALSCALE:GREGORIAN
BEGIN:VEVENT
UID:event-184
DTSTAMP:20260419T145735Z
SUMMARY:Study Skills Workshop: Get a grip on your bad habits
DESCRIPTION:Dear reader\, Are you always struggling in maintaining your new
  year's resolutions? Always planning to spend more time on your study\, ea
 t healthier and spend more time with family?  Cedo is here to help you ou
 t!  In this workshop you will get a grip on your own bad habits! During a
  two-hour interactive session developed and given by two trainers of SPS-N
 IP\, you will learn about the theory behind bad habits. Also\, you will be
  doing exercises in which you learn about how that works for you! Together
  with the trainer you are going to make your OWN personalized action plan 
 to get rid of your bad habits! This plan is based on your own qualities an
 d points of improvement.  Especially now in these difficult times it can 
 be valuable to get rid of bad habits\, so don’t hesitate to sign up for 
 this amazing workshop. There are only limited spots so be quick!  We will
  see you soon! Love\, The 36th board Registrations will start on Friday 2n
 d of October\, 18.00
DTSTART:20201019T140000Z
DTEND:20201019T160000Z
LOCATION:Zoom
END:VEVENT
BEGIN:VTIMEZONE
TZID:UTC
BEGIN:STANDARD
DTSTART:20201019T140000
TZNAME:UTC
TZOFFSETTO:+0000
TZOFFSETFROM:+0000
END:STANDARD
END:VTIMEZONE
END:VCALENDAR
