BEGIN:VCALENDAR
PRODID:-//eluceo/ical//2.0/EN
VERSION:2.0
CALSCALE:GREGORIAN
BEGIN:VEVENT
UID:event-250
DTSTAMP:20260423T221540Z
SUMMARY:Wine & Paint
DESCRIPTION:Dear Cedo members Do you like to paint and drink some wine? The
 n come to our Wine &amp\; Paint event on the second of March! It will be a
  very creative evening and we are sure you don’t want to miss it. You wi
 ll receive a painting package with a bottle of wine to enjoy your night to
  the fullest. This painting package will include everything you need to ma
 ke your own beautiful artwork! Please do note that you have to pay the shi
 pping costs yourself if you live outside of Rotterdam. The event costs 5
  euro’s and this will all go to charity. Don’t hesitate and sign up qu
 ickly since there are only 20 spots! The deadline to sign up is February 2
 3rd\, 23.59! We will see you there! Lots of love from the Community Commit
 tee
DTSTART:20210302T190000Z
DTEND:20210302T203000Z
LOCATION:Zoom (Link T.B.A.)
END:VEVENT
BEGIN:VTIMEZONE
TZID:UTC
BEGIN:STANDARD
DTSTART:20210302T190000
TZNAME:UTC
TZOFFSETTO:+0000
TZOFFSETFROM:+0000
END:STANDARD
END:VTIMEZONE
END:VCALENDAR
