BEGIN:VCALENDAR
PRODID:-//eluceo/ical//2.0/EN
VERSION:2.0
CALSCALE:GREGORIAN
BEGIN:VEVENT
UID:event-375
DTSTAMP:20260425T121543Z
SUMMARY:Master Group 
DESCRIPTION:Dear (future) master students\, Needs some help finding an inte
 rnship? We have just the event for you!  During our Master Group on the 
 29th of November\, we will invite multiple (alumni) students and other peo
 ple with experience in finding an internship! They will give you you just 
 the tips and tricks you'll need to find the perfect internship for you stu
 dy! It will be the perfect way to expand your network and your vision.  T
 owards the end of the event\, we would like to invite you for a drink in t
 he Smitse!  If you would like to share your personal experience with othe
 r students\, you are also more than welcome to join! We hope to see you th
 ere and to help you with your search! 
DTSTART:20211129T153000Z
DTEND:20211129T163000Z
LOCATION:Mandeville T3-06
END:VEVENT
BEGIN:VTIMEZONE
TZID:UTC
BEGIN:STANDARD
DTSTART:20211129T153000
TZNAME:UTC
TZOFFSETTO:+0000
TZOFFSETFROM:+0000
END:STANDARD
END:VTIMEZONE
END:VCALENDAR
