BEGIN:VCALENDAR
PRODID:-//eluceo/ical//2.0/EN
VERSION:2.0
CALSCALE:GREGORIAN
BEGIN:VEVENT
UID:event-480
DTSTAMP:20260422T104253Z
SUMMARY:Study Group PSY 1.7 People at Work (NL)
DESCRIPTION:With the seventh exam week approaching\, it is time for our St
 udy Groups again!  The study groups are meant as a recap of the course. I
 t will last 2 to 3 hours in which an older student will give an interactiv
 e presentation\, a practice exam and you get the opportunity to ask questi
 ons! The study groups become more and more interactive\, so don't hesitate
  and register for your own study group through our website! Non-members pa
 y a fee of €5\,00. If you have more questions about the study groups\, y
 ou can send us a DM on Facebook/Instagram or send an e-mail to education@c
 edonulli.nl.
DTSTART:20220524T160000Z
DTEND:20220524T190000Z
LOCATION:Mandeville T3-02 
END:VEVENT
BEGIN:VTIMEZONE
TZID:UTC
BEGIN:STANDARD
DTSTART:20220524T160000
TZNAME:UTC
TZOFFSETTO:+0000
TZOFFSETFROM:+0000
END:STANDARD
END:VTIMEZONE
END:VCALENDAR
