BEGIN:VCALENDAR
PRODID:-//eluceo/ical//2.0/EN
VERSION:2.0
CALSCALE:GREGORIAN
BEGIN:VEVENT
UID:event-493
DTSTAMP:20260423T103216Z
SUMMARY:Alumni Summer Drink
DESCRIPTION:Beste Alumni\, Nu de zomer alweer voor de deur staat is het nat
 uurlijk tijd geworden om met elkaar lekker te gaan borrelen. En waarom doe
 n we dit niet meteen met een goed glas wijn\, een zomerse cocktail of gewo
 on een lekker frisje bij Café Apartt. Laten we er samen een gezellige avo
 nd van maken om het begin van de zomer eens goed in te luiden en onze vaka
 ntieplannen te delen.  Nodig vooral je (oude) studievrienden uit om ook m
 ee te komen\, zodat we met elkaar kunnen genieten van een zwoele zomeravon
 d. Aangezien de borrel lekker op een centrale plek in Rotterdam plaatsvind
 t\, is ervoor diegenen die erna nog even door willen borrelen geen excuus 
 meer om niet te komen. Tot vrijdagavond 24 juni 20.00! Liefs\,  De Alumni
  Commissie
DTSTART:20220624T180000Z
DTEND:20220624T215959Z
LOCATION:Café Apartt
END:VEVENT
BEGIN:VTIMEZONE
TZID:UTC
BEGIN:STANDARD
DTSTART:20220624T180000
TZNAME:UTC
TZOFFSETTO:+0000
TZOFFSETFROM:+0000
END:STANDARD
END:VTIMEZONE
END:VCALENDAR
