BEGIN:VCALENDAR
PRODID:-//eluceo/ical//2.0/EN
VERSION:2.0
CALSCALE:GREGORIAN
BEGIN:VEVENT
UID:event-776
DTSTAMP:20260423T105438Z
SUMMARY:Drop the mic\, an improvisation and public speaking workshop
DESCRIPTION:Dear member\, Always wanted to overcome your stage fright\, or 
 do you just want to boost your public speaking skills? Then this workshop 
 is for you! During this event we will create a safe space for you to pract
 ice your public speaking abilities in a creative and fun way. The workshop
  will be given by two experienced stage warriors\, who will guide you thro
 ugh the process of becoming a confident speecher. Of course\, we will prov
 ide you with snacks\, drinks and the opportunity to meet new people! There
  are limited spaces available\, so make sure to sign up. When : April 3rd
  \, 18:00 - 21:00 Where : On campus\, Polak 1-17 Sign up for the buddy pr
 ogram if you don't want to go alone to this event. You will be paired up w
 ith someone beforehand\, and get introduced to new people!  Are you ready
  to give a convincing speech\, and drop the mic?  Lots of love\, Inclusiv
 ity and Diversity committee
DTSTART:20240403T160000Z
DTEND:20240403T190000Z
LOCATION:Erasmus University 
END:VEVENT
BEGIN:VTIMEZONE
TZID:UTC
BEGIN:STANDARD
DTSTART:20240403T160000
TZNAME:UTC
TZOFFSETTO:+0000
TZOFFSETFROM:+0000
END:STANDARD
END:VTIMEZONE
END:VCALENDAR
