BEGIN:VCALENDAR
PRODID:-//eluceo/ical//2.0/EN
VERSION:2.0
CALSCALE:GREGORIAN
BEGIN:VEVENT
UID:event-901
DTSTAMP:20260420T194822Z
SUMMARY:Sustainability Track 2025 Day 2: Creative Upcycling Workshop
DESCRIPTION:Dear Cedo Members\, You have the chance to join Cedo Nulli's fi
 rst ever Sustainability Track! If you want to learn more about sustainabil
 ity in creative\, educational and delicious ways\, this event is for you. 
 There will be two fun and educational evenings in which you can learn abou
 t food waste and sustainable fashion through an interactive program. DAY 2
 : On Monday the 24th of February\, the topic is sustainable fashion. This 
 day will be divided into three parts: We will hear more on this topic from
  guest speaker Younghyun Kim\, who is a researcher at the FABRIX project t
 hat focuses on fostering regenerative\, sustainable textile and clothing e
 cosystems. You can join us for a clothes swap with your fellow students at
  the Living Room on campus! Bring at least one clothing item you want to s
 wap\; more is always welcome of course. After acquiring new items from the
  clothes swap\, you get the chance to up-cycle this item with the help of 
 a professional up-cycler and sewing teacher! This upcycling workshop by Ta
 nte Ann will show you creative ways to transform old clothing items into s
 omething new. If this event interests you\, you can register here on the w
 ebsite now. Keep in mind that there is a limited number of spots available
 \, so sign up fast! Lots of Love\, The Sustainability Committee
DTSTART:20250224T160000Z
DTEND:20250224T194500Z
LOCATION:Erasmus University Rotterdam
END:VEVENT
BEGIN:VTIMEZONE
TZID:UTC
BEGIN:STANDARD
DTSTART:20250224T160000
TZNAME:UTC
TZOFFSETTO:+0000
TZOFFSETFROM:+0000
END:STANDARD
END:VTIMEZONE
END:VCALENDAR
